BEGIN:VCALENDAR
VERSION:2.0
PRODID:-//Stadtkapelle Melk//Termine//DE
CALSCALE:GREGORIAN
METHOD:PUBLISH
X-WR-CALNAME:Stadtkapelle Melk - Termine
X-WR-TIMEZONE:Europe/Vienna
BEGIN:VEVENT
UID:1873-1777039930@stadtkapelle-melk.at
DTSTAMP:20260424T141210Z
DTSTART:20260430T170000
DTEND:20260430T190000
SUMMARY:Maibaumaufstellen
LOCATION:Feuerwehrhaus Melk
DESCRIPTION:Datum: 30.04.2026 um 17:00 Uhr\nOrt: Feuerwehrhaus Melk\n\nMehr Informationen: https://stadtkapellemelk.at/termine/maibaumaufstellen-melk-2026/
URL:https://stadtkapellemelk.at/termine/maibaumaufstellen-melk-2026/
STATUS:CONFIRMED
ORGANIZER;CN=Stadtkapelle Melk:mailto:info@stadtkapelle-melk.at
END:VEVENT
END:VCALENDAR
