BEGIN:VCALENDAR
VERSION:2.0
PRODID:-//Stadtkapelle Melk//Termine//DE
CALSCALE:GREGORIAN
METHOD:PUBLISH
X-WR-CALNAME:Stadtkapelle Melk - Termine
X-WR-TIMEZONE:Europe/Vienna
BEGIN:VEVENT
UID:1876-1777039758@stadtkapelle-melk.at
DTSTAMP:20260424T140918Z
DTSTART:20260517T110000
DTEND:20260517T140000
SUMMARY:Frühschoppen FF Matzleinsdorf
LOCATION:FF Matzleinsdorf
DESCRIPTION:Datum: 17.05.2026 um 11:00 Uhr\nOrt: FF Matzleinsdorf\n\nMehr Informationen: https://stadtkapellemelk.at/termine/fruehschoppen-ff-matzleinsdorf-2026/
URL:https://stadtkapellemelk.at/termine/fruehschoppen-ff-matzleinsdorf-2026/
STATUS:CONFIRMED
ORGANIZER;CN=Stadtkapelle Melk:mailto:info@stadtkapelle-melk.at
END:VEVENT
END:VCALENDAR
