BEGIN:VCALENDAR
VERSION:2.0
PRODID:-//Stadtkapelle Melk//Termine//DE
CALSCALE:GREGORIAN
METHOD:PUBLISH
X-WR-CALNAME:Stadtkapelle Melk - Termine
X-WR-TIMEZONE:Europe/Vienna
BEGIN:VEVENT
UID:1880-1777039852@stadtkapelle-melk.at
DTSTAMP:20260424T141052Z
DTSTART:20260604T190000
DTEND:20260604T220000
SUMMARY:Dämmerschoppen Spitz/Donau
LOCATION:Pfarrhof Spitz/Donau
DESCRIPTION:Datum: 04.06.2026 um 19:00 Uhr\nOrt: Pfarrhof Spitz/Donau\n\nMehr Informationen: https://stadtkapellemelk.at/termine/daemmerschoppen-spitz-donau-2026/
URL:https://stadtkapellemelk.at/termine/daemmerschoppen-spitz-donau-2026/
STATUS:CONFIRMED
ORGANIZER;CN=Stadtkapelle Melk:mailto:info@stadtkapelle-melk.at
END:VEVENT
END:VCALENDAR
