BEGIN:VCALENDAR
VERSION:2.0
PRODID:-//Stadtkapelle Melk//Termine//DE
CALSCALE:GREGORIAN
METHOD:PUBLISH
X-WR-CALNAME:Stadtkapelle Melk - Termine
X-WR-TIMEZONE:Europe/Vienna
BEGIN:VEVENT
UID:1883-1777039879@stadtkapelle-melk.at
DTSTAMP:20260424T141119Z
DTSTART:20260614T110000
DTEND:20260614T140000
SUMMARY:Frühschoppen FF-Fest Melk
LOCATION:Wasserhalle Melk
DESCRIPTION:Datum: 14.06.2026 um 11:00 Uhr\nOrt: Wasserhalle Melk\n\nMehr Informationen: https://stadtkapellemelk.at/termine/fruehschoppen-ff-fest-melk/
URL:https://stadtkapellemelk.at/termine/fruehschoppen-ff-fest-melk/
STATUS:CONFIRMED
ORGANIZER;CN=Stadtkapelle Melk:mailto:info@stadtkapelle-melk.at
END:VEVENT
END:VCALENDAR
