BEGIN:VCALENDAR
VERSION:2.0
PRODID:-//Stadtkapelle Melk//Termine//DE
CALSCALE:GREGORIAN
METHOD:PUBLISH
X-WR-CALNAME:Stadtkapelle Melk - Termine
X-WR-TIMEZONE:Europe/Vienna
BEGIN:VEVENT
UID:1888-1777039399@stadtkapelle-melk.at
DTSTAMP:20260424T140319Z
DTSTART:20260906T130000
DTEND:20260906T170000
SUMMARY:Marschmusikbewertung Pöchlarn
LOCATION:Pöchlarn
DESCRIPTION:Datum: 06.09.2026 um 13:00 Uhr\nOrt: Pöchlarn\n\nMehr Informationen: https://stadtkapellemelk.at/termine/marschmusikbewertung-poechlarn/
URL:https://stadtkapellemelk.at/termine/marschmusikbewertung-poechlarn/
STATUS:CONFIRMED
ORGANIZER;CN=Stadtkapelle Melk:mailto:info@stadtkapelle-melk.at
END:VEVENT
END:VCALENDAR
