BEGIN:VCALENDAR
VERSION:2.0
PRODID:-//Stadtkapelle Melk//Termine//DE
CALSCALE:GREGORIAN
METHOD:PUBLISH
X-WR-CALNAME:Stadtkapelle Melk - Termine
X-WR-TIMEZONE:Europe/Vienna
BEGIN:VEVENT
UID:309-1777039751@stadtkapelle-melk.at
DTSTAMP:20260424T140911Z
DTSTART:20260531T090000
DTEND:20260531T140000
SUMMARY:Tag der Stadtkapelle
LOCATION:Tischlerei Melk Kulturwerkstatt
DESCRIPTION:Datum: 31.05.2026 um 09:00 Uhr\nOrt: Tischlerei Melk Kulturwerkstatt\n\nMehr Informationen: https://stadtkapellemelk.at/termine/tagderstadtkapelle2026/
URL:https://stadtkapellemelk.at/termine/tagderstadtkapelle2026/
STATUS:CONFIRMED
ORGANIZER;CN=Stadtkapelle Melk:mailto:info@stadtkapelle-melk.at
END:VEVENT
END:VCALENDAR
