BEGIN:VCALENDAR
VERSION:2.0
PRODID:-//Stadtkapelle Melk//Termine//DE
CALSCALE:GREGORIAN
METHOD:PUBLISH
X-WR-CALNAME:Stadtkapelle Melk - Termine
X-WR-TIMEZONE:Europe/Vienna
BEGIN:VEVENT
UID:313-1777039746@stadtkapelle-melk.at
DTSTAMP:20260424T140906Z
DTSTART:20260719T100000
DTEND:20260719T140000
SUMMARY:Pfarrfest Bad Vöslau
LOCATION:Pfarrgarten Bad Vöslau
DESCRIPTION:Datum: 19.07.2026 um 10:00 Uhr\nOrt: Pfarrgarten Bad Vöslau\n\nMehr Informationen: https://stadtkapellemelk.at/termine/pfarrfruehschoppenbadvoeslau2026/
URL:https://stadtkapellemelk.at/termine/pfarrfruehschoppenbadvoeslau2026/
STATUS:CONFIRMED
ORGANIZER;CN=Stadtkapelle Melk:mailto:info@stadtkapelle-melk.at
END:VEVENT
END:VCALENDAR
