BEGIN:VCALENDAR
VERSION:2.0
PRODID:-//Stadtkapelle Melk//Termine//DE
CALSCALE:GREGORIAN
METHOD:PUBLISH
X-WR-CALNAME:Stadtkapelle Melk - Termine
X-WR-TIMEZONE:Europe/Vienna
BEGIN:VEVENT
UID:315-1777039840@stadtkapelle-melk.at
DTSTAMP:20260424T141040Z
DTSTART:20260711T160000
DTEND:20260711T210000
SUMMARY:Kellergassenfest
LOCATION:Pöverding
DESCRIPTION:Datum: 11.07.2026 um 16:00 Uhr\nOrt: Pöverding\n\nMehr Informationen: https://stadtkapellemelk.at/termine/kellergassenfest2026/
URL:https://stadtkapellemelk.at/termine/kellergassenfest2026/
STATUS:CONFIRMED
ORGANIZER;CN=Stadtkapelle Melk:mailto:info@stadtkapelle-melk.at
END:VEVENT
END:VCALENDAR
